BEGIN:VCALENDAR
PRODID:www.herminetermine.net
VERSION:2.0
CALSCALE:GREGORIAN
BEGIN:VTIMEZONE
TZID:Europe/Berlin
CX-LIC-LOCATION:Europe/Berlin
BEGIN:DAYLIGHT
TZOFFSETFROM:+0100
TZOFFSETTO:+0200
TZNAME:CEST
DTSTART:19700329T020000
RRULE:FREQ=YEARLY;INTERVAL=1;BYDAY=-1SU;BYMONTH=3
END:DAYLIGHT
BEGIN:STANDARD
TZOFFSETFROM:+0200
TZOFFSETTO:+0100
TZNAME:CET
DTSTART:19701025T030000
RRULE:FREQ=YEARLY;INTERVAL=1;BYDAY=-1SU;BYMONTH=10
END:STANDARD
END:VTIMEZONE
BEGIN:VEVENT
UID:c71321ecdda0639c2d79c621a0aafaee
SUMMARY:Zubringer-Demo "80 Jahre Befreiung - Verteidigt sie mit Klauen und Z&auml
DTSTAMP:20T000000Z
DTSTART:20250509T173000
LOCATION:Bochum bleibt Stabil   4630   
DESCRIPTION:Zubringer-Demo "80 Jahre Befreiung - Verteidigt sie mit Klauen und Z&auml;hnen" (https://www.bo-alternativ.de/2025/04/21/ausblick-zum-tag-der-befreiung-in-bochum/)Gefunden Dank Bochum bleibt Stabil
END:VEVENT
BEGIN:VEVENT
UID:c71321ecdda0639c2d79c621a0aafaee
SUMMARY:Zubringer-Demo "80 Jahre Befreiung - Verteidigt sie mit Klauen und Z&auml
DTSTAMP:20T000000Z
DTSTART:20250509T173000
LOCATION:Bochum bleibt Stabil   4630   
DESCRIPTION:Zubringer-Demo "80 Jahre Befreiung - Verteidigt sie mit Klauen und Z&auml;hnen"  (https://www.bo-alternativ.de/2025/04/21/ausblick-zum-tag-der-befreiung-in-bochum/)Gefunden Dank Bochum bleibt Stabil
END:VEVENT
BEGIN:VEVENT
UID:eb3b37a8fc85e07c0862328ac55c56ac
SUMMARY:Aktionstraining
DTSTAMP:20T000000Z
DTSTART:20250510T140000
LOCATION:Bochum bleibt Stabil   4630   
DESCRIPTION:Aktionstraining (https://www.bo-alternativ.de/2025/05/03/aktionstraining/)Gefunden Dank Bochum bleibt Stabil
END:VEVENT
BEGIN:VEVENT
UID:7dd420260c71ddb3c3f9f10bd5aeeb3e
SUMMARY:Lesung "Sand im patriarchalen Getriebe - zur Geschichte der Frauen-Buch-B
DTSTAMP:20T000000Z
DTSTART:20250510T180000
LOCATION:Bochum bleibt Stabil   4630   
DESCRIPTION:Lesung "Sand im patriarchalen Getriebe - zur Geschichte der Frauen-Buch-Bewegung" (https://www.bo-alternativ.de/2025/05/03/die-geschichte-der-frauen-buch-bewegung/)Gefunden Dank Bochum bleibt Stabil
END:VEVENT
END:VCALENDAR